BEGIN:VCALENDAR
VERSION:2.0
PRODID:-//St. James Verona - ECPv6.15.20//NONSGML v1.0//EN
CALSCALE:GREGORIAN
METHOD:PUBLISH
X-ORIGINAL-URL:https://stjamesverona.org
X-WR-CALDESC:Events for St. James Verona
REFRESH-INTERVAL;VALUE=DURATION:PT1H
X-Robots-Tag:noindex
X-PUBLISHED-TTL:PT1H
BEGIN:VTIMEZONE
TZID:UTC
BEGIN:STANDARD
TZOFFSETFROM:+0000
TZOFFSETTO:+0000
TZNAME:UTC
DTSTART:20200101T000000
END:STANDARD
END:VTIMEZONE
BEGIN:VEVENT
DTSTART;TZID=UTC:20210912T180000
DTEND;TZID=UTC:20210912T203000
DTSTAMP:20260422T155130
CREATED:20210903T165817Z
LAST-MODIFIED:20211104T182839Z
UID:2738-1631469600-1631478600@stjamesverona.org
SUMMARY:Madison Chamber Choir Rehearsal
DESCRIPTION:
URL:https://stjamesverona.org/event/2738/2021-09-12/
END:VEVENT
END:VCALENDAR