BEGIN:VCALENDAR
VERSION:2.0
PRODID:-//St. James Verona - ECPv6.15.20//NONSGML v1.0//EN
CALSCALE:GREGORIAN
METHOD:PUBLISH
X-WR-CALNAME:St. James Verona
X-ORIGINAL-URL:https://stjamesverona.org
X-WR-CALDESC:Events for St. James Verona
REFRESH-INTERVAL;VALUE=DURATION:PT1H
X-Robots-Tag:noindex
X-PUBLISHED-TTL:PT1H
BEGIN:VTIMEZONE
TZID:UTC
BEGIN:STANDARD
TZOFFSETFROM:+0000
TZOFFSETTO:+0000
TZNAME:UTC
DTSTART:20210101T000000
END:STANDARD
END:VTIMEZONE
BEGIN:VEVENT
DTSTART;TZID=UTC:20220316T190000
DTEND;TZID=UTC:20220316T200000
DTSTAMP:20260423T025007
CREATED:20220315T154020Z
LAST-MODIFIED:20220315T154027Z
UID:3675-1647457200-1647460800@stjamesverona.org
SUMMARY:Adult Choir Rehearsal
DESCRIPTION:
URL:https://stjamesverona.org/event/adult-choir-rehearsal-2/2022-03-16/
END:VEVENT
END:VCALENDAR