BEGIN:VCALENDAR
VERSION:2.0
PRODID:-//St. James Verona - ECPv6.15.20//NONSGML v1.0//EN
CALSCALE:GREGORIAN
METHOD:PUBLISH
X-WR-CALNAME:St. James Verona
X-ORIGINAL-URL:https://stjamesverona.org
X-WR-CALDESC:Events for St. James Verona
REFRESH-INTERVAL;VALUE=DURATION:PT1H
X-Robots-Tag:noindex
X-PUBLISHED-TTL:PT1H
BEGIN:VTIMEZONE
TZID:UTC
BEGIN:STANDARD
TZOFFSETFROM:+0000
TZOFFSETTO:+0000
TZNAME:UTC
DTSTART:20210101T000000
END:STANDARD
END:VTIMEZONE
BEGIN:VEVENT
DTSTART;TZID=UTC:20220109T104500
DTEND;TZID=UTC:20220109T114500
DTSTAMP:20260423T103000
CREATED:20211231T212512Z
LAST-MODIFIED:20211231T212512Z
UID:3344-1641725100-1641728700@stjamesverona.org
SUMMARY:Blended Worship
DESCRIPTION:
URL:https://stjamesverona.org/event/blended-worship-2/2022-01-09/
END:VEVENT
END:VCALENDAR