BEGIN:VCALENDAR
VERSION:2.0
PRODID:-//St. James Verona - ECPv6.15.20//NONSGML v1.0//EN
CALSCALE:GREGORIAN
METHOD:PUBLISH
X-WR-CALNAME:St. James Verona
X-ORIGINAL-URL:https://stjamesverona.org
X-WR-CALDESC:Events for St. James Verona
REFRESH-INTERVAL;VALUE=DURATION:PT1H
X-Robots-Tag:noindex
X-PUBLISHED-TTL:PT1H
BEGIN:VTIMEZONE
TZID:UTC
BEGIN:STANDARD
TZOFFSETFROM:+0000
TZOFFSETTO:+0000
TZNAME:UTC
DTSTART:20210101T000000
END:STANDARD
END:VTIMEZONE
BEGIN:VEVENT
DTSTART;TZID=UTC:20220424T093000
DTEND;TZID=UTC:20220424T103000
DTSTAMP:20260422T114739
CREATED:20220318T193308Z
LAST-MODIFIED:20220318T193315Z
UID:3745-1650792600-1650796200@stjamesverona.org
SUMMARY:Confirmation
DESCRIPTION:
URL:https://stjamesverona.org/event/confirmation-3/2022-04-24/
END:VEVENT
END:VCALENDAR