BEGIN:VCALENDAR
VERSION:2.0
PRODID:-//St. James Verona - ECPv6.15.20//NONSGML v1.0//EN
CALSCALE:GREGORIAN
METHOD:PUBLISH
X-ORIGINAL-URL:https://stjamesverona.org
X-WR-CALDESC:Events for St. James Verona
REFRESH-INTERVAL;VALUE=DURATION:PT1H
X-Robots-Tag:noindex
X-PUBLISHED-TTL:PT1H
BEGIN:VTIMEZONE
TZID:UTC
BEGIN:STANDARD
TZOFFSETFROM:+0000
TZOFFSETTO:+0000
TZNAME:UTC
DTSTART:20210101T000000
END:STANDARD
END:VTIMEZONE
BEGIN:VEVENT
DTSTART;TZID=UTC:20220109T093000
DTEND;TZID=UTC:20220109T103000
DTSTAMP:20260423T062450
CREATED:20211231T213209Z
LAST-MODIFIED:20211231T213209Z
UID:3405-1641720600-1641724200@stjamesverona.org
SUMMARY:Confirmation
DESCRIPTION:
URL:https://stjamesverona.org/event/confirmation/2022-01-09/
END:VEVENT
END:VCALENDAR