BEGIN:VCALENDAR
VERSION:2.0
PRODID:-//St. James Verona - ECPv6.15.20//NONSGML v1.0//EN
CALSCALE:GREGORIAN
METHOD:PUBLISH
X-ORIGINAL-URL:https://stjamesverona.org
X-WR-CALDESC:Events for St. James Verona
REFRESH-INTERVAL;VALUE=DURATION:PT1H
X-Robots-Tag:noindex
X-PUBLISHED-TTL:PT1H
BEGIN:VTIMEZONE
TZID:UTC
BEGIN:STANDARD
TZOFFSETFROM:+0000
TZOFFSETTO:+0000
TZNAME:UTC
DTSTART:20200101T000000
END:STANDARD
END:VTIMEZONE
BEGIN:VEVENT
DTSTART;TZID=UTC:20210920T190000
DTEND;TZID=UTC:20210920T200000
DTSTAMP:20260422T134943
CREATED:20210903T171512Z
LAST-MODIFIED:20210903T171512Z
UID:2809-1632164400-1632168000@stjamesverona.org
SUMMARY:Handbell Choir Rehearsal
DESCRIPTION:
URL:https://stjamesverona.org/event/handbell-choir-rehearsal/2021-09-20/
END:VEVENT
END:VCALENDAR