BEGIN:VCALENDAR
VERSION:2.0
PRODID:-//St. James Verona - ECPv6.15.20//NONSGML v1.0//EN
CALSCALE:GREGORIAN
METHOD:PUBLISH
X-ORIGINAL-URL:https://stjamesverona.org
X-WR-CALDESC:Events for St. James Verona
REFRESH-INTERVAL;VALUE=DURATION:PT1H
X-Robots-Tag:noindex
X-PUBLISHED-TTL:PT1H
BEGIN:VTIMEZONE
TZID:UTC
BEGIN:STANDARD
TZOFFSETFROM:+0000
TZOFFSETTO:+0000
TZNAME:UTC
DTSTART:20210101T000000
END:STANDARD
END:VTIMEZONE
BEGIN:VEVENT
DTSTART;TZID=UTC:20220309T183000
DTEND;TZID=UTC:20220309T183000
DTSTAMP:20260423T095510
CREATED:20220315T141452Z
LAST-MODIFIED:20220315T142905Z
UID:3622-1646850600-1646850600@stjamesverona.org
SUMMARY:Lenten Table Talk
DESCRIPTION: 
URL:https://stjamesverona.org/event/lenten-meal/2022-03-09/
END:VEVENT
END:VCALENDAR