BEGIN:VCALENDAR
VERSION:2.0
PRODID:-//St. James Verona - ECPv6.15.20//NONSGML v1.0//EN
CALSCALE:GREGORIAN
METHOD:PUBLISH
X-ORIGINAL-URL:https://stjamesverona.org
X-WR-CALDESC:Events for St. James Verona
REFRESH-INTERVAL;VALUE=DURATION:PT1H
X-Robots-Tag:noindex
X-PUBLISHED-TTL:PT1H
BEGIN:VTIMEZONE
TZID:UTC
BEGIN:STANDARD
TZOFFSETFROM:+0000
TZOFFSETTO:+0000
TZNAME:UTC
DTSTART:20210101T000000
END:STANDARD
END:VTIMEZONE
BEGIN:VEVENT
DTSTART;TZID=UTC:20221025T190000
DTEND;TZID=UTC:20221025T200000
DTSTAMP:20260422T003202
CREATED:20220902T150100Z
LAST-MODIFIED:20220902T150100Z
UID:4392-1666724400-1666728000@stjamesverona.org
SUMMARY:Mary Circle
DESCRIPTION:
URL:https://stjamesverona.org/event/mary-circle/2022-10-25/
END:VEVENT
END:VCALENDAR