BEGIN:VCALENDAR
VERSION:2.0
PRODID:-//St. James Verona - ECPv6.15.20//NONSGML v1.0//EN
CALSCALE:GREGORIAN
METHOD:PUBLISH
X-WR-CALNAME:St. James Verona
X-ORIGINAL-URL:https://stjamesverona.org
X-WR-CALDESC:Events for St. James Verona
REFRESH-INTERVAL;VALUE=DURATION:PT1H
X-Robots-Tag:noindex
X-PUBLISHED-TTL:PT1H
BEGIN:VTIMEZONE
TZID:UTC
BEGIN:STANDARD
TZOFFSETFROM:+0000
TZOFFSETTO:+0000
TZNAME:UTC
DTSTART:20210101T000000
END:STANDARD
END:VTIMEZONE
BEGIN:VEVENT
DTSTART;TZID=UTC:20220328T090000
DTEND;TZID=UTC:20220328T130000
DTSTAMP:20260422T134243
CREATED:20220218T201519Z
LAST-MODIFIED:20220218T201527Z
UID:3576-1648458000-1648472400@stjamesverona.org
SUMMARY:Quilting
DESCRIPTION:
URL:https://stjamesverona.org/event/quilting-2/2022-03-28/
END:VEVENT
END:VCALENDAR