BEGIN:VCALENDAR
VERSION:2.0
PRODID:-//St. James Verona - ECPv6.15.20//NONSGML v1.0//EN
CALSCALE:GREGORIAN
METHOD:PUBLISH
X-ORIGINAL-URL:https://stjamesverona.org
X-WR-CALDESC:Events for St. James Verona
REFRESH-INTERVAL;VALUE=DURATION:PT1H
X-Robots-Tag:noindex
X-PUBLISHED-TTL:PT1H
BEGIN:VTIMEZONE
TZID:UTC
BEGIN:STANDARD
TZOFFSETFROM:+0000
TZOFFSETTO:+0000
TZNAME:UTC
DTSTART:20210101T000000
END:STANDARD
END:VTIMEZONE
BEGIN:VEVENT
DTSTART;TZID=UTC:20221114T090000
DTEND;TZID=UTC:20221114T120000
DTSTAMP:20260421T183154
CREATED:20220829T193533Z
LAST-MODIFIED:20220829T193533Z
UID:4274-1668416400-1668427200@stjamesverona.org
SUMMARY:Quilting
DESCRIPTION:
URL:https://stjamesverona.org/event/quilting-4/2022-11-14/
LOCATION:St. James Lutheran Church\, 427 S Main\, Verona\, WI\, 53593
END:VEVENT
END:VCALENDAR