BEGIN:VCALENDAR
VERSION:2.0
PRODID:-//St. James Verona - ECPv6.15.20//NONSGML v1.0//EN
CALSCALE:GREGORIAN
METHOD:PUBLISH
X-WR-CALNAME:St. James Verona
X-ORIGINAL-URL:https://stjamesverona.org
X-WR-CALDESC:Events for St. James Verona
REFRESH-INTERVAL;VALUE=DURATION:PT1H
X-Robots-Tag:noindex
X-PUBLISHED-TTL:PT1H
BEGIN:VTIMEZONE
TZID:UTC
BEGIN:STANDARD
TZOFFSETFROM:+0000
TZOFFSETTO:+0000
TZNAME:UTC
DTSTART:20210101T000000
END:STANDARD
END:VTIMEZONE
BEGIN:VEVENT
DTSTART;TZID=UTC:20220925T094000
DTEND;TZID=UTC:20220925T094000
DTSTAMP:20260421T215741
CREATED:20220802T154652Z
LAST-MODIFIED:20220802T154652Z
UID:4104-1664098800-1664098800@stjamesverona.org
SUMMARY:Sunday School
DESCRIPTION:
URL:https://stjamesverona.org/event/sunday-school-4/2022-09-25/
LOCATION:St. James Lutheran Church\, 427 S Main\, Verona\, WI\, 53593
END:VEVENT
END:VCALENDAR