BEGIN:VCALENDAR
VERSION:2.0
PRODID:-//St. James Verona - ECPv6.15.20//NONSGML v1.0//EN
CALSCALE:GREGORIAN
METHOD:PUBLISH
X-ORIGINAL-URL:https://stjamesverona.org
X-WR-CALDESC:Events for St. James Verona
REFRESH-INTERVAL;VALUE=DURATION:PT1H
X-Robots-Tag:noindex
X-PUBLISHED-TTL:PT1H
BEGIN:VTIMEZONE
TZID:UTC
BEGIN:STANDARD
TZOFFSETFROM:+0000
TZOFFSETTO:+0000
TZNAME:UTC
DTSTART:20200101T000000
END:STANDARD
END:VTIMEZONE
BEGIN:VEVENT
DTSTART;TZID=UTC:20210919T083000
DTEND;TZID=UTC:20210919T093000
DTSTAMP:20260422T074733
CREATED:20210726T164540Z
LAST-MODIFIED:20210726T164540Z
UID:2328-1632040200-1632043800@stjamesverona.org
SUMMARY:Traditional Worship
DESCRIPTION:
URL:https://stjamesverona.org/event/traditional-worship-2/2021-09-19/
LOCATION:St. James Lutheran Church\, 427 S Main\, Verona\, WI\, 53593
END:VEVENT
END:VCALENDAR