BEGIN:VCALENDAR
VERSION:2.0
PRODID:-//St. James Verona - ECPv6.15.20//NONSGML v1.0//EN
CALSCALE:GREGORIAN
METHOD:PUBLISH
X-WR-CALNAME:St. James Verona
X-ORIGINAL-URL:https://stjamesverona.org
X-WR-CALDESC:Events for St. James Verona
REFRESH-INTERVAL;VALUE=DURATION:PT1H
X-Robots-Tag:noindex
X-PUBLISHED-TTL:PT1H
BEGIN:VTIMEZONE
TZID:UTC
BEGIN:STANDARD
TZOFFSETFROM:+0000
TZOFFSETTO:+0000
TZNAME:UTC
DTSTART:20210101T000000
END:STANDARD
END:VTIMEZONE
BEGIN:VEVENT
DTSTART;TZID=UTC:20221006T160000
DTEND;TZID=UTC:20221006T170000
DTSTAMP:20260422T003800
CREATED:20220912T183849Z
LAST-MODIFIED:20220912T183849Z
UID:4444-1665072000-1665075600@stjamesverona.org
SUMMARY:Weekend Food Program SJ
DESCRIPTION:
URL:https://stjamesverona.org/event/weekend-food-program-sj-6/2022-10-06/
END:VEVENT
END:VCALENDAR