BEGIN:VCALENDAR
VERSION:2.0
PRODID:-//St. James Verona - ECPv6.15.20//NONSGML v1.0//EN
CALSCALE:GREGORIAN
METHOD:PUBLISH
X-WR-CALNAME:St. James Verona
X-ORIGINAL-URL:https://stjamesverona.org
X-WR-CALDESC:Events for St. James Verona
REFRESH-INTERVAL;VALUE=DURATION:PT1H
X-Robots-Tag:noindex
X-PUBLISHED-TTL:PT1H
BEGIN:VTIMEZONE
TZID:UTC
BEGIN:STANDARD
TZOFFSETFROM:+0000
TZOFFSETTO:+0000
TZNAME:UTC
DTSTART:20210101T000000
END:STANDARD
END:VTIMEZONE
BEGIN:VEVENT
DTSTART;TZID=UTC:20220407T160000
DTEND;TZID=UTC:20220407T170000
DTSTAMP:20260422T153226
CREATED:20220215T162455Z
LAST-MODIFIED:20220215T162455Z
UID:3532-1649347200-1649350800@stjamesverona.org
SUMMARY:Weekend Food Program SR
DESCRIPTION:
URL:https://stjamesverona.org/event/weekend-food-program-sr-2/2022-04-07/
END:VEVENT
END:VCALENDAR