BEGIN:VCALENDAR
VERSION:2.0
PRODID:-//St. James Verona - ECPv6.15.20//NONSGML v1.0//EN
CALSCALE:GREGORIAN
METHOD:PUBLISH
X-WR-CALNAME:St. James Verona
X-ORIGINAL-URL:https://stjamesverona.org
X-WR-CALDESC:Events for St. James Verona
REFRESH-INTERVAL;VALUE=DURATION:PT1H
X-Robots-Tag:noindex
X-PUBLISHED-TTL:PT1H
BEGIN:VTIMEZONE
TZID:UTC
BEGIN:STANDARD
TZOFFSETFROM:+0000
TZOFFSETTO:+0000
TZNAME:UTC
DTSTART:20200101T000000
END:STANDARD
END:VTIMEZONE
BEGIN:VEVENT
DTSTART;TZID=UTC:20211205T104500
DTEND;TZID=UTC:20211205T114500
DTSTAMP:20260423T043821
CREATED:20210930T163422Z
LAST-MODIFIED:20210930T163422Z
UID:3078-1638701100-1638704700@stjamesverona.org
SUMMARY:Youth Handbell Choir Rehearsal
DESCRIPTION:
URL:https://stjamesverona.org/event/youth-handbell-choir-rehearsal-2/2021-12-05/
END:VEVENT
END:VCALENDAR