BEGIN:VCALENDAR
VERSION:2.0
PRODID:-//St. James Verona - ECPv6.15.20//NONSGML v1.0//EN
CALSCALE:GREGORIAN
METHOD:PUBLISH
X-WR-CALNAME:St. James Verona
X-ORIGINAL-URL:https://stjamesverona.org
X-WR-CALDESC:Events for St. James Verona
REFRESH-INTERVAL;VALUE=DURATION:PT1H
X-Robots-Tag:noindex
X-PUBLISHED-TTL:PT1H
BEGIN:VTIMEZONE
TZID:UTC
BEGIN:STANDARD
TZOFFSETFROM:+0000
TZOFFSETTO:+0000
TZNAME:UTC
DTSTART:20200101T000000
END:STANDARD
END:VTIMEZONE
BEGIN:VEVENT
DTSTART;TZID=UTC:20211003T104500
DTEND;TZID=UTC:20211003T114500
DTSTAMP:20260422T114934
CREATED:20210930T162551Z
LAST-MODIFIED:20210930T164721Z
UID:3069-1633257900-1633261500@stjamesverona.org
SUMMARY:Youth Handbell Rehearsal
DESCRIPTION:
URL:https://stjamesverona.org/event/youth-handbell-rehearsal/2021-10-03/
END:VEVENT
END:VCALENDAR