BEGIN:VCALENDAR
VERSION:2.0
PRODID:-//St. James Verona - ECPv6.15.20//NONSGML v1.0//EN
CALSCALE:GREGORIAN
METHOD:PUBLISH
X-ORIGINAL-URL:https://stjamesverona.org
X-WR-CALDESC:Events for St. James Verona
REFRESH-INTERVAL;VALUE=DURATION:PT1H
X-Robots-Tag:noindex
X-PUBLISHED-TTL:PT1H
BEGIN:VTIMEZONE
TZID:UTC
BEGIN:STANDARD
TZOFFSETFROM:+0000
TZOFFSETTO:+0000
TZNAME:UTC
DTSTART:20200101T000000
END:STANDARD
END:VTIMEZONE
BEGIN:VEVENT
DTSTART;TZID=UTC:20220910T170000
DTEND;TZID=UTC:20220910T180000
DTSTAMP:20260422T052725
CREATED:20220815T210133Z
LAST-MODIFIED:20220815T210133Z
UID:4185-1662829200-1662832800@stjamesverona.org
SUMMARY:Horan Baptism
DESCRIPTION:
URL:https://stjamesverona.org/event/horan-baptism/
LOCATION:Odana Hills Golf Course
END:VEVENT
BEGIN:VEVENT
DTSTART;TZID=UTC:20220716T110000
DTEND;TZID=UTC:20220716T130000
DTSTAMP:20260422T052725
CREATED:20220623T152635Z
LAST-MODIFIED:20220623T152635Z
UID:3973-1657969200-1657976400@stjamesverona.org
SUMMARY:Jane Baker Funeral Service
DESCRIPTION:
URL:https://stjamesverona.org/event/jane-baker-funeral-service/
LOCATION:Odana Hills Golf Course
END:VEVENT
BEGIN:VEVENT
DTSTART;TZID=UTC:20220503T170400
DTEND;TZID=UTC:20220503T190400
DTSTAMP:20260422T052725
CREATED:20220428T155934Z
LAST-MODIFIED:20220428T155934Z
UID:3851-1651597440-1651604640@stjamesverona.org
SUMMARY:Men's Golf League
DESCRIPTION:
URL:https://stjamesverona.org/event/mens-golf-league-2/2022-05-03/
LOCATION:Odana Hills Golf Course
END:VEVENT
BEGIN:VEVENT
DTSTART;TZID=UTC:20210504T170000
DTEND;TZID=UTC:20210504T190000
DTSTAMP:20260422T052725
CREATED:20210430T172339Z
LAST-MODIFIED:20210810T184839Z
UID:1777-1620147600-1620154800@stjamesverona.org
SUMMARY:Men's Golf League
DESCRIPTION:
URL:https://stjamesverona.org/event/mens-golf-league/2021-05-04/
LOCATION:Odana Hills Golf Course
END:VEVENT
END:VCALENDAR