BEGIN:VCALENDAR
VERSION:2.0
PRODID:-//St. James Verona - ECPv6.15.20//NONSGML v1.0//EN
CALSCALE:GREGORIAN
METHOD:PUBLISH
X-WR-CALNAME:St. James Verona
X-ORIGINAL-URL:https://stjamesverona.org
X-WR-CALDESC:Events for St. James Verona
REFRESH-INTERVAL;VALUE=DURATION:PT1H
X-Robots-Tag:noindex
X-PUBLISHED-TTL:PT1H
BEGIN:VTIMEZONE
TZID:UTC
BEGIN:STANDARD
TZOFFSETFROM:+0000
TZOFFSETTO:+0000
TZNAME:UTC
DTSTART:20210101T000000
END:STANDARD
END:VTIMEZONE
BEGIN:VEVENT
DTSTART;VALUE=DATE:20221105
DTEND;VALUE=DATE:20221106
DTSTAMP:20260421T164150
CREATED:20220912T183507Z
LAST-MODIFIED:20220912T183507Z
UID:4438-1667606400-1667692799@stjamesverona.org
SUMMARY:Chloe Circle Lefse Baking
DESCRIPTION:
URL:https://stjamesverona.org/event/chloe-circle-lefse-baking/
LOCATION:St. James Lutheran Church\, 427 S Main\, Verona\, WI\, 53593
END:VEVENT
BEGIN:VEVENT
DTSTART;VALUE=DATE:20221030
DTEND;VALUE=DATE:20221031
DTSTAMP:20260421T164150
CREATED:20220802T160101Z
LAST-MODIFIED:20220802T160101Z
UID:4145-1667088000-1667174399@stjamesverona.org
SUMMARY:Reformation Sunday
DESCRIPTION:
URL:https://stjamesverona.org/event/reformation-sunday-2/
LOCATION:St. James Lutheran Church\, 427 S Main\, Verona\, WI\, 53593
END:VEVENT
BEGIN:VEVENT
DTSTART;TZID=UTC:20221027T190000
DTEND;TZID=UTC:20221027T200000
DTSTAMP:20260421T164150
CREATED:20221024T181932Z
LAST-MODIFIED:20221024T181932Z
UID:4650-1666897200-1666900800@stjamesverona.org
SUMMARY:Organ Concert
DESCRIPTION:
URL:https://stjamesverona.org/event/organ-concert/
LOCATION:St. James Lutheran Church\, 427 S Main\, Verona\, WI\, 53593
END:VEVENT
BEGIN:VEVENT
DTSTART;TZID=UTC:20221027T173000
DTEND;TZID=UTC:20221027T190000
DTSTAMP:20260421T164150
CREATED:20220829T210452Z
LAST-MODIFIED:20220829T210452Z
UID:4337-1666891800-1666897200@stjamesverona.org
SUMMARY:Preschool Trick or Treat
DESCRIPTION:
URL:https://stjamesverona.org/event/preschool-trick-or-treat/
LOCATION:St. James Lutheran Church\, 427 S Main\, Verona\, WI\, 53593
END:VEVENT
BEGIN:VEVENT
DTSTART;TZID=UTC:20221025T183000
DTEND;TZID=UTC:20221025T200000
DTSTAMP:20260421T164150
CREATED:20220829T200603Z
LAST-MODIFIED:20220829T200603Z
UID:4288-1666722600-1666728000@stjamesverona.org
SUMMARY:Congregational Council Meeting
DESCRIPTION:
URL:https://stjamesverona.org/event/congregational-council-meeting-3/
LOCATION:St. James Lutheran Church\, 427 S Main\, Verona\, WI\, 53593
END:VEVENT
BEGIN:VEVENT
DTSTART;TZID=UTC:20221023T104500
DTEND;TZID=UTC:20221023T114500
DTSTAMP:20260421T164150
CREATED:20220902T145214Z
LAST-MODIFIED:20220922T162459Z
UID:4378-1666521900-1666525500@stjamesverona.org
SUMMARY:Dreher Baptism
DESCRIPTION:
URL:https://stjamesverona.org/event/dreher-baptism/
LOCATION:St. James Lutheran Church\, 427 S Main\, Verona\, WI\, 53593
END:VEVENT
BEGIN:VEVENT
DTSTART;TZID=UTC:20221023T083000
DTEND;TZID=UTC:20221023T093000
DTSTAMP:20260421T164150
CREATED:20220815T210236Z
LAST-MODIFIED:20220908T205621Z
UID:4187-1666513800-1666517400@stjamesverona.org
SUMMARY:Mahaffey baptism
DESCRIPTION:
URL:https://stjamesverona.org/event/mahaffey-baptism/
LOCATION:St. James Lutheran Church\, 427 S Main\, Verona\, WI\, 53593
END:VEVENT
BEGIN:VEVENT
DTSTART;TZID=UTC:20221018T183000
DTEND;TZID=UTC:20221018T193000
DTSTAMP:20260421T164150
CREATED:20220902T145254Z
LAST-MODIFIED:20220902T145254Z
UID:4380-1666117800-1666121400@stjamesverona.org
SUMMARY:Faith & Science Reading Group
DESCRIPTION:
URL:https://stjamesverona.org/event/faith-science-reading-group-2/
LOCATION:St. James Lutheran Church\, 427 S Main\, Verona\, WI\, 53593
END:VEVENT
BEGIN:VEVENT
DTSTART;TZID=UTC:20221016T170000
DTEND;TZID=UTC:20221016T183000
DTSTAMP:20260421T164150
CREATED:20220802T160029Z
LAST-MODIFIED:20220802T160029Z
UID:4143-1665939600-1665945000@stjamesverona.org
SUMMARY:St. James Book Group
DESCRIPTION:
URL:https://stjamesverona.org/event/st-james-book-group/
LOCATION:St. James Lutheran Church\, 427 S Main\, Verona\, WI\, 53593
END:VEVENT
BEGIN:VEVENT
DTSTART;TZID=UTC:20221016T083000
DTEND;TZID=UTC:20221016T093000
DTSTAMP:20260421T164150
CREATED:20220802T152637Z
LAST-MODIFIED:20220802T152637Z
UID:4028-1665909000-1665912600@stjamesverona.org
SUMMARY:New Members Received
DESCRIPTION:
URL:https://stjamesverona.org/event/new-members-received-2/
LOCATION:St. James Lutheran Church\, 427 S Main\, Verona\, WI\, 53593
END:VEVENT
BEGIN:VEVENT
DTSTART;TZID=UTC:20221011T180000
DTEND;TZID=UTC:20221011T190000
DTSTAMP:20260421T164150
CREATED:20220802T152600Z
LAST-MODIFIED:20220802T152600Z
UID:4026-1665511200-1665514800@stjamesverona.org
SUMMARY:New Member dinner
DESCRIPTION:
URL:https://stjamesverona.org/event/new-member-dinner/
LOCATION:St. James Lutheran Church\, 427 S Main\, Verona\, WI\, 53593
END:VEVENT
BEGIN:VEVENT
DTSTART;TZID=UTC:20221009T104500
DTEND;TZID=UTC:20221009T114500
DTSTAMP:20260421T164150
CREATED:20220811T194913Z
LAST-MODIFIED:20220811T194913Z
UID:4168-1665312300-1665315900@stjamesverona.org
SUMMARY:Feller Baptism
DESCRIPTION:
URL:https://stjamesverona.org/event/feller-baptism/
LOCATION:St. James Lutheran Church\, 427 S Main\, Verona\, WI\, 53593
END:VEVENT
BEGIN:VEVENT
DTSTART;TZID=UTC:20221009T093000
DTEND;TZID=UTC:20221009T103000
DTSTAMP:20260421T164150
CREATED:20220912T183326Z
LAST-MODIFIED:20220912T183326Z
UID:4428-1665307800-1665311400@stjamesverona.org
SUMMARY:Blood Pressure Checks
DESCRIPTION:
URL:https://stjamesverona.org/event/blood-pressure-checks-4/2022-10-09/
LOCATION:St. James Lutheran Church\, 427 S Main\, Verona\, WI\, 53593
END:VEVENT
BEGIN:VEVENT
DTSTART;TZID=UTC:20221009T083000
DTEND;TZID=UTC:20221009T093000
DTSTAMP:20260421T164150
CREATED:20220802T184946Z
LAST-MODIFIED:20220802T184946Z
UID:4157-1665304200-1665307800@stjamesverona.org
SUMMARY:Dopf baptism
DESCRIPTION:
URL:https://stjamesverona.org/event/dopf-baptism/
LOCATION:St. James Lutheran Church\, 427 S Main\, Verona\, WI\, 53593
END:VEVENT
BEGIN:VEVENT
DTSTART;TZID=UTC:20221007T084500
DTEND;TZID=UTC:20221007T094500
DTSTAMP:20260421T164150
CREATED:20220912T183959Z
LAST-MODIFIED:20220912T183959Z
UID:4466-1665132300-1665135900@stjamesverona.org
SUMMARY:Weekend Food Program SR
DESCRIPTION:
URL:https://stjamesverona.org/event/weekend-food-program-sr-7/2022-10-07/
LOCATION:St. James Lutheran Church\, 427 S Main\, Verona\, WI\, 53593
END:VEVENT
BEGIN:VEVENT
DTSTART;TZID=UTC:20221005T183000
DTEND;TZID=UTC:20221005T193000
DTSTAMP:20260421T164150
CREATED:20220829T210415Z
LAST-MODIFIED:20220829T210415Z
UID:4333-1664994600-1664998200@stjamesverona.org
SUMMARY:Adult Choir Rehearsal
DESCRIPTION:
URL:https://stjamesverona.org/event/adult-choir-rehearsal-5/2022-10-05/
LOCATION:St. James Lutheran Church\, 427 S Main\, Verona\, WI\, 53593
END:VEVENT
BEGIN:VEVENT
DTSTART;TZID=UTC:20221005T093000
DTEND;TZID=UTC:20221005T113000
DTSTAMP:20260421T164150
CREATED:20220830T165149Z
LAST-MODIFIED:20220830T165149Z
UID:4358-1664962200-1664969400@stjamesverona.org
SUMMARY:Prayer Shawl Knitting Group
DESCRIPTION:
URL:https://stjamesverona.org/event/prayer-shawl-knitting-group/2022-10-05/
LOCATION:St. James Lutheran Church\, 427 S Main\, Verona\, WI\, 53593
END:VEVENT
BEGIN:VEVENT
DTSTART;TZID=UTC:20221004T133000
DTEND;TZID=UTC:20221004T150000
DTSTAMP:20260421T164150
CREATED:20220912T190707Z
LAST-MODIFIED:20220912T190707Z
UID:4569-1664890200-1664895600@stjamesverona.org
SUMMARY:Martha & Sarah Circle Meetings
DESCRIPTION:
URL:https://stjamesverona.org/event/martha-sarah-circle-meetings-2/2022-10-04/
LOCATION:St. James Lutheran Church\, 427 S Main\, Verona\, WI\, 53593
END:VEVENT
BEGIN:VEVENT
DTSTART;TZID=UTC:20221002T114500
DTEND;TZID=UTC:20221002T124500
DTSTAMP:20260421T164150
CREATED:20220912T184324Z
LAST-MODIFIED:20220926T215859Z
UID:4499-1664711100-1664714700@stjamesverona.org
SUMMARY:Women of St. James Board Meeting
DESCRIPTION:
URL:https://stjamesverona.org/event/women-of-st-james-board-meeting-9/
LOCATION:St. James Lutheran Church\, 427 S Main\, Verona\, WI\, 53593
END:VEVENT
BEGIN:VEVENT
DTSTART;TZID=UTC:20221002T104500
DTEND;TZID=UTC:20221002T114500
DTSTAMP:20260421T164150
CREATED:20220912T185355Z
LAST-MODIFIED:20220912T185355Z
UID:4540-1664707500-1664711100@stjamesverona.org
SUMMARY:Youth Choir Rehearsal
DESCRIPTION:
URL:https://stjamesverona.org/event/youth-choir-rehearsal-2/2022-10-02/
LOCATION:St. James Lutheran Church\, 427 S Main\, Verona\, WI\, 53593
END:VEVENT
BEGIN:VEVENT
DTSTART;TZID=UTC:20221002T104500
DTEND;TZID=UTC:20221002T114500
DTSTAMP:20260421T164150
CREATED:20220912T185221Z
LAST-MODIFIED:20220912T185221Z
UID:4511-1664707500-1664711100@stjamesverona.org
SUMMARY:Youth Handbell Choir Rehearsal
DESCRIPTION:
URL:https://stjamesverona.org/event/youth-handbell-choir-rehearsal-3/2022-10-02/
LOCATION:St. James Lutheran Church\, 427 S Main\, Verona\, WI\, 53593
END:VEVENT
BEGIN:VEVENT
DTSTART;TZID=UTC:20221002T104500
DTEND;TZID=UTC:20221002T114500
DTSTAMP:20260421T164150
CREATED:20220802T185032Z
LAST-MODIFIED:20220812T160625Z
UID:4159-1664707500-1664711100@stjamesverona.org
SUMMARY:Klingbeil baptism
DESCRIPTION:
URL:https://stjamesverona.org/event/klingbeil-baptism/
LOCATION:St. James Lutheran Church\, 427 S Main\, Verona\, WI\, 53593
END:VEVENT
BEGIN:VEVENT
DTSTART;TZID=UTC:20220925T094000
DTEND;TZID=UTC:20220925T094000
DTSTAMP:20260421T164150
CREATED:20220802T154652Z
LAST-MODIFIED:20220802T154652Z
UID:4104-1664098800-1664098800@stjamesverona.org
SUMMARY:Sunday School
DESCRIPTION:
URL:https://stjamesverona.org/event/sunday-school-4/2022-09-25/
LOCATION:St. James Lutheran Church\, 427 S Main\, Verona\, WI\, 53593
END:VEVENT
BEGIN:VEVENT
DTSTART;TZID=UTC:20220925T093000
DTEND;TZID=UTC:20220925T103000
DTSTAMP:20260421T164150
CREATED:20220823T164441Z
LAST-MODIFIED:20220823T164441Z
UID:4199-1664098200-1664101800@stjamesverona.org
SUMMARY:Confirmation
DESCRIPTION:
URL:https://stjamesverona.org/event/confirmation-4/2022-09-25/
LOCATION:St. James Lutheran Church\, 427 S Main\, Verona\, WI\, 53593
END:VEVENT
BEGIN:VEVENT
DTSTART;TZID=UTC:20220925T083000
DTEND;TZID=UTC:20220925T093000
DTSTAMP:20260421T164150
CREATED:20220802T154129Z
LAST-MODIFIED:20220802T154129Z
UID:4069-1664094600-1664098200@stjamesverona.org
SUMMARY:Sunday School
DESCRIPTION:
URL:https://stjamesverona.org/event/sunday-school-3/2022-09-25/
LOCATION:St. James Lutheran Church\, 427 S Main\, Verona\, WI\, 53593
END:VEVENT
BEGIN:VEVENT
DTSTART;TZID=UTC:20220920T183000
DTEND;TZID=UTC:20220920T193000
DTSTAMP:20260421T164150
CREATED:20201116T174903Z
LAST-MODIFIED:20220829T212443Z
UID:2914-1663698600-1663702200@stjamesverona.org
SUMMARY:Congregational Council Meeting
DESCRIPTION:
URL:https://stjamesverona.org/event/congregational-council-meeting-2022-08-18/
LOCATION:St. James Lutheran Church\, 427 S Main\, Verona\, WI\, 53593
END:VEVENT
BEGIN:VEVENT
DTSTART;VALUE=DATE:20220919
DTEND;VALUE=DATE:20220920
DTSTAMP:20260421T164150
CREATED:20220802T184841Z
LAST-MODIFIED:20220802T184841Z
UID:4155-1663545600-1663631999@stjamesverona.org
SUMMARY:2.5yo Preschool begins
DESCRIPTION:
URL:https://stjamesverona.org/event/2-5yo-preschool-begins/
LOCATION:St. James Lutheran Church\, 427 S Main\, Verona\, WI\, 53593
END:VEVENT
BEGIN:VEVENT
DTSTART;TZID=UTC:20220918T104500
DTEND;TZID=UTC:20220918T114500
DTSTAMP:20260421T164150
CREATED:20220802T153919Z
LAST-MODIFIED:20220802T153919Z
UID:4030-1663497900-1663501500@stjamesverona.org
SUMMARY:Blended Worship
DESCRIPTION:
URL:https://stjamesverona.org/event/blended-worship-3/2022-09-18/
LOCATION:St. James Lutheran Church\, 427 S Main\, Verona\, WI\, 53593
END:VEVENT
BEGIN:VEVENT
DTSTART;TZID=UTC:20220918T094500
DTEND;TZID=UTC:20220918T104500
DTSTAMP:20260421T164150
CREATED:20220912T183649Z
LAST-MODIFIED:20220912T183649Z
UID:4442-1663494300-1663497900@stjamesverona.org
SUMMARY:Sunday School Orientation
DESCRIPTION:
URL:https://stjamesverona.org/event/sunday-school-orientation/
LOCATION:St. James Lutheran Church\, 427 S Main\, Verona\, WI\, 53593
END:VEVENT
BEGIN:VEVENT
DTSTART;TZID=UTC:20220918T094500
DTEND;TZID=UTC:20220918T104500
DTSTAMP:20260421T164150
CREATED:20220912T183616Z
LAST-MODIFIED:20220912T183616Z
UID:4440-1663494300-1663497900@stjamesverona.org
SUMMARY:Confirmation Orientation
DESCRIPTION:
URL:https://stjamesverona.org/event/confirmation-orientation/
LOCATION:St. James Lutheran Church\, 427 S Main\, Verona\, WI\, 53593
END:VEVENT
END:VCALENDAR