BEGIN:VCALENDAR
VERSION:2.0
PRODID:-//St. James Verona - ECPv6.15.20//NONSGML v1.0//EN
CALSCALE:GREGORIAN
METHOD:PUBLISH
X-WR-CALNAME:St. James Verona
X-ORIGINAL-URL:https://stjamesverona.org
X-WR-CALDESC:Events for St. James Verona
REFRESH-INTERVAL;VALUE=DURATION:PT1H
X-Robots-Tag:noindex
X-PUBLISHED-TTL:PT1H
BEGIN:VTIMEZONE
TZID:UTC
BEGIN:STANDARD
TZOFFSETFROM:+0000
TZOFFSETTO:+0000
TZNAME:UTC
DTSTART:20210101T000000
END:STANDARD
END:VTIMEZONE
BEGIN:VEVENT
DTSTART;TZID=UTC:20220925T083000
DTEND;TZID=UTC:20220925T093000
DTSTAMP:20260421T202554
CREATED:20220802T154129Z
LAST-MODIFIED:20220802T154129Z
UID:4069-1664094600-1664098200@stjamesverona.org
SUMMARY:Sunday School
DESCRIPTION:
URL:https://stjamesverona.org/event/sunday-school-3/2022-09-25/
LOCATION:St. James Lutheran Church\, 427 S Main\, Verona\, WI\, 53593
END:VEVENT
BEGIN:VEVENT
DTSTART;TZID=UTC:20220920T183000
DTEND;TZID=UTC:20220920T193000
DTSTAMP:20260421T202554
CREATED:20201116T174903Z
LAST-MODIFIED:20220829T212443Z
UID:2914-1663698600-1663702200@stjamesverona.org
SUMMARY:Congregational Council Meeting
DESCRIPTION:
URL:https://stjamesverona.org/event/congregational-council-meeting-2022-08-18/
LOCATION:St. James Lutheran Church\, 427 S Main\, Verona\, WI\, 53593
END:VEVENT
BEGIN:VEVENT
DTSTART;VALUE=DATE:20220919
DTEND;VALUE=DATE:20220920
DTSTAMP:20260421T202554
CREATED:20220802T184841Z
LAST-MODIFIED:20220802T184841Z
UID:4155-1663545600-1663631999@stjamesverona.org
SUMMARY:2.5yo Preschool begins
DESCRIPTION:
URL:https://stjamesverona.org/event/2-5yo-preschool-begins/
LOCATION:St. James Lutheran Church\, 427 S Main\, Verona\, WI\, 53593
END:VEVENT
BEGIN:VEVENT
DTSTART;TZID=UTC:20220918T104500
DTEND;TZID=UTC:20220918T114500
DTSTAMP:20260421T202554
CREATED:20220802T153919Z
LAST-MODIFIED:20220802T153919Z
UID:4030-1663497900-1663501500@stjamesverona.org
SUMMARY:Blended Worship
DESCRIPTION:
URL:https://stjamesverona.org/event/blended-worship-3/2022-09-18/
LOCATION:St. James Lutheran Church\, 427 S Main\, Verona\, WI\, 53593
END:VEVENT
BEGIN:VEVENT
DTSTART;TZID=UTC:20220918T094500
DTEND;TZID=UTC:20220918T104500
DTSTAMP:20260421T202554
CREATED:20220912T183649Z
LAST-MODIFIED:20220912T183649Z
UID:4442-1663494300-1663497900@stjamesverona.org
SUMMARY:Sunday School Orientation
DESCRIPTION:
URL:https://stjamesverona.org/event/sunday-school-orientation/
LOCATION:St. James Lutheran Church\, 427 S Main\, Verona\, WI\, 53593
END:VEVENT
BEGIN:VEVENT
DTSTART;TZID=UTC:20220918T094500
DTEND;TZID=UTC:20220918T104500
DTSTAMP:20260421T202554
CREATED:20220912T183616Z
LAST-MODIFIED:20220912T183616Z
UID:4440-1663494300-1663497900@stjamesverona.org
SUMMARY:Confirmation Orientation
DESCRIPTION:
URL:https://stjamesverona.org/event/confirmation-orientation/
LOCATION:St. James Lutheran Church\, 427 S Main\, Verona\, WI\, 53593
END:VEVENT
BEGIN:VEVENT
DTSTART;TZID=UTC:20220918T083000
DTEND;TZID=UTC:20220918T093000
DTSTAMP:20260421T202554
CREATED:20220802T154746Z
LAST-MODIFIED:20220802T154746Z
UID:4136-1663489800-1663493400@stjamesverona.org
SUMMARY:Bible Presentations for 3-year and third grade students
DESCRIPTION:
URL:https://stjamesverona.org/event/bible-presentations-for-3-year-and-third-grade-students/
LOCATION:St. James Lutheran Church\, 427 S Main\, Verona\, WI\, 53593
END:VEVENT
BEGIN:VEVENT
DTSTART;TZID=UTC:20220918T083000
DTEND;TZID=UTC:20220918T093000
DTSTAMP:20260421T202554
CREATED:20220802T152508Z
LAST-MODIFIED:20220802T152508Z
UID:4014-1663489800-1663493400@stjamesverona.org
SUMMARY:Traditional Worship
DESCRIPTION:
URL:https://stjamesverona.org/event/traditional-worship-5/2022-09-18/
LOCATION:St. James Lutheran Church\, 427 S Main\, Verona\, WI\, 53593
END:VEVENT
BEGIN:VEVENT
DTSTART;VALUE=DATE:20220918
DTEND;VALUE=DATE:20220919
DTSTAMP:20260421T202554
CREATED:20220823T155304Z
LAST-MODIFIED:20220823T155304Z
UID:4197-1663459200-1663545599@stjamesverona.org
SUMMARY:Sunday School & Confirmation Kick-offf
DESCRIPTION:
URL:https://stjamesverona.org/event/sunday-school-confirmation-kick-offf/
LOCATION:St. James Lutheran Church\, 427 S Main\, Verona\, WI\, 53593
END:VEVENT
BEGIN:VEVENT
DTSTART;TZID=UTC:20220912T090000
DTEND;TZID=UTC:20220912T120000
DTSTAMP:20260421T202554
CREATED:20220829T193442Z
LAST-MODIFIED:20220829T193442Z
UID:4269-1662973200-1662984000@stjamesverona.org
SUMMARY:Quilting
DESCRIPTION:
URL:https://stjamesverona.org/event/quilting-3/2022-09-12/
LOCATION:St. James Lutheran Church\, 427 S Main\, Verona\, WI\, 53593
END:VEVENT
BEGIN:VEVENT
DTSTART;TZID=UTC:20220911T160000
DTEND;TZID=UTC:20220911T170000
DTSTAMP:20260421T202554
CREATED:20220908T210114Z
LAST-MODIFIED:20220908T210114Z
UID:4422-1662912000-1662915600@stjamesverona.org
SUMMARY:Women of St. James Board Meeting
DESCRIPTION:
URL:https://stjamesverona.org/event/women-of-st-james-board-meeting-8/
LOCATION:St. James Lutheran Church\, 427 S Main\, Verona\, WI\, 53593
END:VEVENT
BEGIN:VEVENT
DTSTART;TZID=UTC:20220911T090000
DTEND;TZID=UTC:20220911T100000
DTSTAMP:20260421T202554
CREATED:20220908T205842Z
LAST-MODIFIED:20220908T205842Z
UID:4420-1662886800-1662890400@stjamesverona.org
SUMMARY:Whitish Baptism
DESCRIPTION:
URL:https://stjamesverona.org/event/whitish-baptism/
LOCATION:St. James Lutheran Church\, 427 S Main\, Verona\, WI\, 53593
END:VEVENT
BEGIN:VEVENT
DTSTART;TZID=UTC:20220908T160000
DTEND;TZID=UTC:20220908T170000
DTSTAMP:20260421T202554
CREATED:20220802T185623Z
LAST-MODIFIED:20220802T185623Z
UID:4161-1662652800-1662656400@stjamesverona.org
SUMMARY:Italy Trip Meeting
DESCRIPTION:
URL:https://stjamesverona.org/event/italy-trip-meeting-2/
LOCATION:St. James Lutheran Church\, 427 S Main\, Verona\, WI\, 53593
END:VEVENT
BEGIN:VEVENT
DTSTART;TZID=UTC:20220907T183000
DTEND;TZID=UTC:20220907T193000
DTSTAMP:20260421T202554
CREATED:20220829T210236Z
LAST-MODIFIED:20220829T210236Z
UID:4328-1662575400-1662579000@stjamesverona.org
SUMMARY:Adult Choir Rehearsal
DESCRIPTION:
URL:https://stjamesverona.org/event/adult-choir-rehearsal-4/2022-09-07/
LOCATION:St. James Lutheran Church\, 427 S Main\, Verona\, WI\, 53593
END:VEVENT
BEGIN:VEVENT
DTSTART;TZID=UTC:20220907T093000
DTEND;TZID=UTC:20220907T233000
DTSTAMP:20260421T202554
CREATED:20220830T165042Z
LAST-MODIFIED:20220830T165326Z
UID:4355-1662543000-1662593400@stjamesverona.org
SUMMARY:Prayer Shawl Knitting Group
DESCRIPTION:
URL:https://stjamesverona.org/event/quilting-5/2022-09-07/
LOCATION:St. James Lutheran Church\, 427 S Main\, Verona\, WI\, 53593
END:VEVENT
BEGIN:VEVENT
DTSTART;VALUE=DATE:20220907
DTEND;VALUE=DATE:20220908
DTSTAMP:20260421T202554
CREATED:20220802T184805Z
LAST-MODIFIED:20220802T184805Z
UID:4153-1662508800-1662595199@stjamesverona.org
SUMMARY:3yo Preschool begins
DESCRIPTION:
URL:https://stjamesverona.org/event/3yo-preschool-begins/
LOCATION:St. James Lutheran Church\, 427 S Main\, Verona\, WI\, 53593
END:VEVENT
BEGIN:VEVENT
DTSTART;TZID=UTC:20220906T130000
DTEND;TZID=UTC:20220906T140000
DTSTAMP:20260421T202554
CREATED:20220829T210149Z
LAST-MODIFIED:20220829T210149Z
UID:4311-1662469200-1662472800@stjamesverona.org
SUMMARY:Staff Meeting
DESCRIPTION:
URL:https://stjamesverona.org/event/staff-meeting-4/2022-09-06/
LOCATION:St. James Lutheran Church\, 427 S Main\, Verona\, WI\, 53593
END:VEVENT
BEGIN:VEVENT
DTSTART;TZID=UTC:20220906T103000
DTEND;TZID=UTC:20220906T113000
DTSTAMP:20260421T202554
CREATED:20220829T210308Z
LAST-MODIFIED:20220829T210308Z
UID:4331-1662460200-1662463800@stjamesverona.org
SUMMARY:Weekend Food Program Meeting
DESCRIPTION:
URL:https://stjamesverona.org/event/weekend-food-program-meeting/
LOCATION:St. James Lutheran Church\, 427 S Main\, Verona\, WI\, 53593
END:VEVENT
BEGIN:VEVENT
DTSTART;VALUE=DATE:20220901
DTEND;VALUE=DATE:20220902
DTSTAMP:20260421T202554
CREATED:20220802T155955Z
LAST-MODIFIED:20220802T155955Z
UID:4141-1661990400-1662076799@stjamesverona.org
SUMMARY:PreK begins
DESCRIPTION:
URL:https://stjamesverona.org/event/prek-begins/
LOCATION:St. James Lutheran Church\, 427 S Main\, Verona\, WI\, 53593
END:VEVENT
BEGIN:VEVENT
DTSTART;TZID=UTC:20220828T100000
DTEND;TZID=UTC:20220828T110000
DTSTAMP:20260421T202554
CREATED:20220812T160809Z
LAST-MODIFIED:20220812T160809Z
UID:4175-1661680800-1661684400@stjamesverona.org
SUMMARY:Semi-Annual Meeting
DESCRIPTION:
URL:https://stjamesverona.org/event/semi-annual-meeting-2/
LOCATION:St. James Lutheran Church\, 427 S Main\, Verona\, WI\, 53593
END:VEVENT
BEGIN:VEVENT
DTSTART;TZID=UTC:20220824T183000
DTEND;TZID=UTC:20220824T183000
DTSTAMP:20260421T202554
CREATED:20220829T200515Z
LAST-MODIFIED:20220829T200515Z
UID:4286-1661365800-1661365800@stjamesverona.org
SUMMARY:Congregational Council Meeting
DESCRIPTION:
URL:https://stjamesverona.org/event/congregational-council-meeting-2/
LOCATION:St. James Lutheran Church\, 427 S Main\, Verona\, WI\, 53593
END:VEVENT
BEGIN:VEVENT
DTSTART;TZID=UTC:20220805T110000
DTEND;TZID=UTC:20220805T120000
DTSTAMP:20260421T202554
CREATED:20220714T203802Z
LAST-MODIFIED:20220714T203802Z
UID:4004-1659697200-1659700800@stjamesverona.org
SUMMARY:Ellen Hornbacher Funeral
DESCRIPTION:
URL:https://stjamesverona.org/event/ellen-hornbacher-funeral/
LOCATION:St. James Lutheran Church\, 427 S Main\, Verona\, WI\, 53593
END:VEVENT
BEGIN:VEVENT
DTSTART;TZID=UTC:20220805T100000
DTEND;TZID=UTC:20220805T110000
DTSTAMP:20260421T202554
CREATED:20220812T161044Z
LAST-MODIFIED:20220812T161044Z
UID:4179-1659693600-1659697200@stjamesverona.org
SUMMARY:Ellen Hornbacher Visitation
DESCRIPTION:
URL:https://stjamesverona.org/event/ellen-hornbacher-visitation/
LOCATION:St. James Lutheran Church\, 427 S Main\, Verona\, WI\, 53593
END:VEVENT
BEGIN:VEVENT
DTSTART;TZID=UTC:20220715T170000
DTEND;TZID=UTC:20220715T200000
DTSTAMP:20260421T202554
CREATED:20220623T152549Z
LAST-MODIFIED:20220623T152549Z
UID:3970-1657904400-1657915200@stjamesverona.org
SUMMARY:Jane Baker Visitation
DESCRIPTION:
URL:https://stjamesverona.org/event/jane-baker-visitation/
LOCATION:St. James Lutheran Church\, 427 S Main\, Verona\, WI\, 53593
END:VEVENT
BEGIN:VEVENT
DTSTART;VALUE=DATE:20220619
DTEND;VALUE=DATE:20220620
DTSTAMP:20260421T202554
CREATED:20220609T204611Z
LAST-MODIFIED:20220609T204611Z
UID:3963-1655596800-1655683199@stjamesverona.org
SUMMARY:Chloe Circle Bake Sale
DESCRIPTION:
URL:https://stjamesverona.org/event/chloe-circle-bake-sale/
LOCATION:St. James Lutheran Church\, 427 S Main\, Verona\, WI\, 53593
END:VEVENT
BEGIN:VEVENT
DTSTART;TZID=UTC:20220613T190000
DTEND;TZID=UTC:20220613T200000
DTSTAMP:20260421T202554
CREATED:20220609T195410Z
LAST-MODIFIED:20220609T195410Z
UID:3955-1655146800-1655150400@stjamesverona.org
SUMMARY:Handbell Choir Rehearsal
DESCRIPTION:
URL:https://stjamesverona.org/event/handbell-choir-rehearsal-4/
LOCATION:St. James Lutheran Church\, 427 S Main\, Verona\, WI\, 53593
END:VEVENT
BEGIN:VEVENT
DTSTART;VALUE=DATE:20220608
DTEND;VALUE=DATE:20220609
DTSTAMP:20260421T202554
CREATED:20220607T175834Z
LAST-MODIFIED:20220607T175834Z
UID:3951-1654646400-1654732799@stjamesverona.org
SUMMARY:Last day of Preschool
DESCRIPTION:
URL:https://stjamesverona.org/event/last-day-of-preschool/
LOCATION:St. James Lutheran Church\, 427 S Main\, Verona\, WI\, 53593
END:VEVENT
BEGIN:VEVENT
DTSTART;TZID=UTC:20220606T190000
DTEND;TZID=UTC:20220606T200000
DTSTAMP:20260421T202554
CREATED:20220526T191708Z
LAST-MODIFIED:20220526T191708Z
UID:3907-1654542000-1654545600@stjamesverona.org
SUMMARY:Handbell Choir Rehearsal
DESCRIPTION:
URL:https://stjamesverona.org/event/handbell-choir-rehearsal-3/
LOCATION:St. James Lutheran Church\, 427 S Main\, Verona\, WI\, 53593
END:VEVENT
BEGIN:VEVENT
DTSTART;TZID=UTC:20220605T170000
DTEND;TZID=UTC:20220605T180000
DTSTAMP:20260421T202554
CREATED:20220602T212301Z
LAST-MODIFIED:20220602T212301Z
UID:3918-1654448400-1654452000@stjamesverona.org
SUMMARY:Piano Recital
DESCRIPTION:
URL:https://stjamesverona.org/event/piano-recital/
LOCATION:St. James Lutheran Church\, 427 S Main\, Verona\, WI\, 53593
END:VEVENT
BEGIN:VEVENT
DTSTART;TZID=UTC:20220604T170000
DTEND;TZID=UTC:20220604T180000
DTSTAMP:20260421T202554
CREATED:20220602T202458Z
LAST-MODIFIED:20220602T212951Z
UID:3916-1654362000-1654365600@stjamesverona.org
SUMMARY:Worship
DESCRIPTION:
URL:https://stjamesverona.org/event/worship-4/2022-06-04/
LOCATION:St. James Lutheran Church\, 427 S Main\, Verona\, WI\, 53593
END:VEVENT
END:VCALENDAR