BEGIN:VCALENDAR
VERSION:2.0
PRODID:-//St. James Verona - ECPv6.15.20//NONSGML v1.0//EN
CALSCALE:GREGORIAN
METHOD:PUBLISH
X-WR-CALNAME:St. James Verona
X-ORIGINAL-URL:https://stjamesverona.org
X-WR-CALDESC:Events for St. James Verona
REFRESH-INTERVAL;VALUE=DURATION:PT1H
X-Robots-Tag:noindex
X-PUBLISHED-TTL:PT1H
BEGIN:VTIMEZONE
TZID:UTC
BEGIN:STANDARD
TZOFFSETFROM:+0000
TZOFFSETTO:+0000
TZNAME:UTC
DTSTART:20200101T000000
END:STANDARD
END:VTIMEZONE
BEGIN:VEVENT
DTSTART;TZID=UTC:20211107T180000
DTEND;TZID=UTC:20211107T200000
DTSTAMP:20260422T042239
CREATED:20210726T200827Z
LAST-MODIFIED:20210726T200827Z
UID:2523-1636308000-1636315200@stjamesverona.org
SUMMARY:Hope & Healing Dinner and Service
DESCRIPTION:
URL:https://stjamesverona.org/event/hope-healing-dinner-and-service/
LOCATION:St. James Lutheran Church\, 427 S Main\, Verona\, WI\, 53593
END:VEVENT
BEGIN:VEVENT
DTSTART;TZID=UTC:20211031T104500
DTEND;TZID=UTC:20211031T114500
DTSTAMP:20260422T042239
CREATED:20210726T195011Z
LAST-MODIFIED:20210726T195011Z
UID:2508-1635677100-1635680700@stjamesverona.org
SUMMARY:Confirmation/Affirmation of Baptism Service
DESCRIPTION:
URL:https://stjamesverona.org/event/confirmation-affirmation-of-baptism-service/
LOCATION:St. James Lutheran Church\, 427 S Main\, Verona\, WI\, 53593
END:VEVENT
BEGIN:VEVENT
DTSTART;TZID=UTC:20211020T180000
DTEND;TZID=UTC:20211020T193000
DTSTAMP:20260422T042239
CREATED:20210726T194128Z
LAST-MODIFIED:20210726T194128Z
UID:2504-1634752800-1634758200@stjamesverona.org
SUMMARY:Youth Group Kickoff
DESCRIPTION:
URL:https://stjamesverona.org/event/youth-group-kickoff/
LOCATION:St. James Lutheran Church\, 427 S Main\, Verona\, WI\, 53593
END:VEVENT
BEGIN:VEVENT
DTSTART;TZID=UTC:20211017T083000
DTEND;TZID=UTC:20211017T093000
DTSTAMP:20260422T042239
CREATED:20210726T195312Z
LAST-MODIFIED:20210726T195312Z
UID:2512-1634459400-1634463000@stjamesverona.org
SUMMARY:New Members Received
DESCRIPTION:
URL:https://stjamesverona.org/event/new-members-received/
LOCATION:St. James Lutheran Church\, 427 S Main\, Verona\, WI\, 53593
END:VEVENT
BEGIN:VEVENT
DTSTART;TZID=UTC:20211007T183000
DTEND;TZID=UTC:20211007T200000
DTSTAMP:20260422T042239
CREATED:20210927T200309Z
LAST-MODIFIED:20210927T200309Z
UID:2994-1633631400-1633636800@stjamesverona.org
SUMMARY:New Member Orientation
DESCRIPTION:
URL:https://stjamesverona.org/event/new-member-orientation/
LOCATION:St. James Lutheran Church\, 427 S Main\, Verona\, WI\, 53593
END:VEVENT
BEGIN:VEVENT
DTSTART;TZID=UTC:20210926T083000
DTEND;TZID=UTC:20210926T213000
DTSTAMP:20260422T042239
CREATED:20210726T164450Z
LAST-MODIFIED:20210726T164450Z
UID:2326-1632645000-1632691800@stjamesverona.org
SUMMARY:Bible Presentations
DESCRIPTION:
URL:https://stjamesverona.org/event/bible-presentations/
LOCATION:St. James Lutheran Church\, 427 S Main\, Verona\, WI\, 53593
END:VEVENT
BEGIN:VEVENT
DTSTART;VALUE=DATE:20210926
DTEND;VALUE=DATE:20210927
DTSTAMP:20260422T042239
CREATED:20210927T200156Z
LAST-MODIFIED:20210927T200156Z
UID:2992-1632614400-1632700799@stjamesverona.org
SUMMARY:First Day of Sunday School & Confirmation
DESCRIPTION:
URL:https://stjamesverona.org/event/first-day-of-sunday-school-confirmation/
LOCATION:St. James Lutheran Church\, 427 S Main\, Verona\, WI\, 53593
END:VEVENT
BEGIN:VEVENT
DTSTART;TZID=UTC:20210919T104500
DTEND;TZID=UTC:20210919T114500
DTSTAMP:20260422T042239
CREATED:20210726T192635Z
LAST-MODIFIED:20210726T192635Z
UID:2364-1632048300-1632051900@stjamesverona.org
SUMMARY:Blended Worship
DESCRIPTION:
URL:https://stjamesverona.org/event/blended-worship/2021-09-19/
LOCATION:St. James Lutheran Church\, 427 S Main\, Verona\, WI\, 53593
END:VEVENT
BEGIN:VEVENT
DTSTART;TZID=UTC:20210919T090000
DTEND;TZID=UTC:20210919T103000
DTSTAMP:20260422T042239
CREATED:20210726T162706Z
LAST-MODIFIED:20210726T162706Z
UID:2323-1632042000-1632047400@stjamesverona.org
SUMMARY:Sunday School & Confirmation Kick-off
DESCRIPTION:Teacher Commission and Orientation to our Sunday School & Confirmation programs.
URL:https://stjamesverona.org/event/sunday-school-confirmation-kick-off/
LOCATION:St. James Lutheran Church\, 427 S Main\, Verona\, WI\, 53593
END:VEVENT
BEGIN:VEVENT
DTSTART;TZID=UTC:20210919T083000
DTEND;TZID=UTC:20210919T093000
DTSTAMP:20260422T042239
CREATED:20210726T164540Z
LAST-MODIFIED:20210726T164540Z
UID:2328-1632040200-1632043800@stjamesverona.org
SUMMARY:Traditional Worship
DESCRIPTION:
URL:https://stjamesverona.org/event/traditional-worship-2/2021-09-19/
LOCATION:St. James Lutheran Church\, 427 S Main\, Verona\, WI\, 53593
END:VEVENT
BEGIN:VEVENT
DTSTART;TZID=UTC:20210918T170000
DTEND;TZID=UTC:20210918T180000
DTSTAMP:20260422T042239
CREATED:20210726T193853Z
LAST-MODIFIED:20210726T193853Z
UID:2429-1631984400-1631988000@stjamesverona.org
SUMMARY:Traditional Worship
DESCRIPTION:
URL:https://stjamesverona.org/event/traditional-worship-3/2021-09-18/
LOCATION:St. James Lutheran Church\, 427 S Main\, Verona\, WI\, 53593
END:VEVENT
BEGIN:VEVENT
DTSTART;TZID=UTC:20210901T180000
DTEND;TZID=UTC:20210901T190000
DTSTAMP:20260422T042239
CREATED:20210726T200226Z
LAST-MODIFIED:20210726T200226Z
UID:2518-1630519200-1630522800@stjamesverona.org
SUMMARY:Community Meal
DESCRIPTION:
URL:https://stjamesverona.org/event/community-meal/2021-09-01/
LOCATION:St. James Lutheran Church\, 427 S Main\, Verona\, WI\, 53593
END:VEVENT
BEGIN:VEVENT
DTSTART;TZID=UTC:20210805T173000
DTEND;TZID=UTC:20210805T183000
DTSTAMP:20260422T042239
CREATED:20210726T192526Z
LAST-MODIFIED:20210726T192526Z
UID:2362-1628184600-1628188200@stjamesverona.org
SUMMARY:VBS Family Celebration
DESCRIPTION:
URL:https://stjamesverona.org/event/vbs-family-celebration/
LOCATION:St. James Lutheran Church\, 427 S Main\, Verona\, WI\, 53593
END:VEVENT
END:VCALENDAR